BEGIN:VCALENDAR
VERSION:2.0
PRODID:-//Association Santé Respiratoire France - ECPv6.15.20//NONSGML v1.0//EN
CALSCALE:GREGORIAN
METHOD:PUBLISH
X-ORIGINAL-URL:https://sante-respiratoire.com
X-WR-CALDESC:Évènements pour Association Santé Respiratoire France
REFRESH-INTERVAL;VALUE=DURATION:PT1H
X-Robots-Tag:noindex
X-PUBLISHED-TTL:PT1H
BEGIN:VTIMEZONE
TZID:Europe/Paris
BEGIN:DAYLIGHT
TZOFFSETFROM:+0100
TZOFFSETTO:+0200
TZNAME:CEST
DTSTART:20240331T010000
END:DAYLIGHT
BEGIN:STANDARD
TZOFFSETFROM:+0200
TZOFFSETTO:+0100
TZNAME:CET
DTSTART:20241027T010000
END:STANDARD
BEGIN:DAYLIGHT
TZOFFSETFROM:+0100
TZOFFSETTO:+0200
TZNAME:CEST
DTSTART:20250330T010000
END:DAYLIGHT
BEGIN:STANDARD
TZOFFSETFROM:+0200
TZOFFSETTO:+0100
TZNAME:CET
DTSTART:20251026T010000
END:STANDARD
BEGIN:DAYLIGHT
TZOFFSETFROM:+0100
TZOFFSETTO:+0200
TZNAME:CEST
DTSTART:20260329T010000
END:DAYLIGHT
BEGIN:STANDARD
TZOFFSETFROM:+0200
TZOFFSETTO:+0100
TZNAME:CET
DTSTART:20261025T010000
END:STANDARD
END:VTIMEZONE
BEGIN:VEVENT
DTSTART;TZID=Europe/Paris:20251114T093000
DTEND;TZID=Europe/Paris:20251114T123000
DTSTAMP:20260425T024856
CREATED:20250617T151926Z
LAST-MODIFIED:20251113T074057Z
UID:10000166-1763112600-1763123400@sante-respiratoire.com
SUMMARY:18es Rencontres annuelles Santé respiratoire France
DESCRIPTION:Être patient\, être aidant\, apprendre à devenir soignant. \nSanté respiratoire France\, association réunissant patients\, aidants et soignants\, a choisi\, en 2025\, de mettre en avant la prévention tertiaire en santé respiratoire. Objectif : freiner la progression des maladies respiratoires chroniques déjà installées et réduire le risque de complications – et de comorbidités. \nCette « PrévAction » repose sur un transfert de compétences des professionnels du soin aux patients et aux aidants\, dans le cadre global de l’éducation thérapeutique\, idéalement au sein d’un programme de réadaptation respiratoire. Cet accompagnement s’appuie sur la reconnaissance du savoir expérientiel des personnes concernées. Il se développera grâce à la recherche et aux innovations\, qu’elles soient humaines\, médicamenteuses\, technologiques\, organisationnelles ou numériques. \nLa « PrévAction » tertiaire permet aux patients et aux aidants de devenir auteurs de leur santé. C’est le thème du 18ème colloque de Santé respiratoire France\, le 14 novembre prochain (Paris). \nAnimateur : Damien Mascret\, journaliste santé \n Vendredi 14 Novembre 2025\, de 9h30 à 12h30\n \n Au Palais du Luxembourg\, à Paris \nInformations pratiques : voir la page de l’évènement
URL:https://sante-respiratoire.com/event/18es-rencontres-annuelles-sante-respiratoire-france/
CATEGORIES:Evenement
ATTACH;FMTTYPE=image/jpeg:https://sante-respiratoire.com/wp-content/uploads/2025/06/SRF_page-dediee-958x539px.jpg
END:VEVENT
END:VCALENDAR