BEGIN:VCALENDAR
VERSION:2.0
PRODID:-//Association Santé Respiratoire France - ECPv6.15.20//NONSGML v1.0//EN
CALSCALE:GREGORIAN
METHOD:PUBLISH
X-WR-CALNAME:Association Santé Respiratoire France
X-ORIGINAL-URL:https://sante-respiratoire.com
X-WR-CALDESC:Évènements pour Association Santé Respiratoire France
REFRESH-INTERVAL;VALUE=DURATION:PT1H
X-Robots-Tag:noindex
X-PUBLISHED-TTL:PT1H
BEGIN:VTIMEZONE
TZID:Europe/Paris
BEGIN:DAYLIGHT
TZOFFSETFROM:+0100
TZOFFSETTO:+0200
TZNAME:CEST
DTSTART:20240331T010000
END:DAYLIGHT
BEGIN:STANDARD
TZOFFSETFROM:+0200
TZOFFSETTO:+0100
TZNAME:CET
DTSTART:20241027T010000
END:STANDARD
BEGIN:DAYLIGHT
TZOFFSETFROM:+0100
TZOFFSETTO:+0200
TZNAME:CEST
DTSTART:20250330T010000
END:DAYLIGHT
BEGIN:STANDARD
TZOFFSETFROM:+0200
TZOFFSETTO:+0100
TZNAME:CET
DTSTART:20251026T010000
END:STANDARD
BEGIN:DAYLIGHT
TZOFFSETFROM:+0100
TZOFFSETTO:+0200
TZNAME:CEST
DTSTART:20260329T010000
END:DAYLIGHT
BEGIN:STANDARD
TZOFFSETFROM:+0200
TZOFFSETTO:+0100
TZNAME:CET
DTSTART:20261025T010000
END:STANDARD
END:VTIMEZONE
BEGIN:VEVENT
DTSTART;TZID=Europe/Paris:20251104T123000
DTEND;TZID=Europe/Paris:20251104T133000
DTSTAMP:20260425T024552
CREATED:20251017T150108Z
LAST-MODIFIED:20251022T091823Z
UID:10000180-1762259400-1762263000@sante-respiratoire.com
SUMMARY:Exacerbations : comment les prévenir et les gérer ?
DESCRIPTION:Stabiliser sa maladie est le grand enjeu du parcours des malades respiratoires.\nVous êtes nombreux à nous dire combien vous redoutez les exacerbations\, ces épisodes où la maladie s’aggrave\, et qui bouleversent votre équilibre\, votre moral\, votre vie de tous les jours. C’est une préoccupation forte\, suscitant donc de l’inquiétude et de nombreuses questions.\n\nA l’occasion d’un nouveau rendez-vous en direct\, l’association Santé respiratoire France vous invite\, patients\, proches aidants et soignants\, à aborder ce sujet essentiel :\n\n\nComment se protéger des exacerbations ?\n\n\nInfections respiratoires\, qualité de l’air à la maison : quelles sont les pratiques à adopter ?\n\n\nComment reconnaître les premiers signes d’une exacerbation ?\n\n\nQuelles aides existent pour mieux vivre avec sa maladie respiratoire ?\n\n\n  \n\nMardi 4 novembre à 12h30\nEn direct sur la chaîne YouTube de Santé respiratoire France\n\n\nLES INTERVENANTS :\n\nDr Elodie Blanchard\, pneumologue et infectiologue au CHU de Bordeaux\nSarah Géphine\, Care manager à Formaction Santé\nDr Jean-Marie Grosbois\, pneumologue\, Formaction Santé\nGéraldine Leroux\, patiente experte BPCO\nBruno Tudal\, conseiller en environnement intérieur (CMEI)\n\n  \nREJOINDRE LE DIRECT
URL:https://sante-respiratoire.com/event/exacerbations-comment-les-prevenir-et-les-gerer/
CATEGORIES:Evenement
ATTACH;FMTTYPE=image/jpeg:https://sante-respiratoire.com/wp-content/uploads/2025/10/Les-Directs-SRF-4.jpg
END:VEVENT
END:VCALENDAR