BEGIN:VCALENDAR
VERSION:2.0
PRODID:-//Association Santé Respiratoire France - ECPv6.15.20//NONSGML v1.0//EN
CALSCALE:GREGORIAN
METHOD:PUBLISH
X-ORIGINAL-URL:https://sante-respiratoire.com
X-WR-CALDESC:Évènements pour Association Santé Respiratoire France
REFRESH-INTERVAL;VALUE=DURATION:PT1H
X-Robots-Tag:noindex
X-PUBLISHED-TTL:PT1H
BEGIN:VTIMEZONE
TZID:Europe/Paris
BEGIN:DAYLIGHT
TZOFFSETFROM:+0100
TZOFFSETTO:+0200
TZNAME:CEST
DTSTART:20240331T010000
END:DAYLIGHT
BEGIN:STANDARD
TZOFFSETFROM:+0200
TZOFFSETTO:+0100
TZNAME:CET
DTSTART:20241027T010000
END:STANDARD
BEGIN:DAYLIGHT
TZOFFSETFROM:+0100
TZOFFSETTO:+0200
TZNAME:CEST
DTSTART:20250330T010000
END:DAYLIGHT
BEGIN:STANDARD
TZOFFSETFROM:+0200
TZOFFSETTO:+0100
TZNAME:CET
DTSTART:20251026T010000
END:STANDARD
BEGIN:DAYLIGHT
TZOFFSETFROM:+0100
TZOFFSETTO:+0200
TZNAME:CEST
DTSTART:20260329T010000
END:DAYLIGHT
BEGIN:STANDARD
TZOFFSETFROM:+0200
TZOFFSETTO:+0100
TZNAME:CET
DTSTART:20261025T010000
END:STANDARD
END:VTIMEZONE
BEGIN:VEVENT
DTSTART;TZID=Europe/Paris:20251012T100000
DTEND;TZID=Europe/Paris:20251012T120000
DTSTAMP:20260425T040818
CREATED:20251007T094614Z
LAST-MODIFIED:20251007T094614Z
UID:10000176-1760263200-1760270400@sante-respiratoire.com
SUMMARY:Respirez'Golf à Lille !
DESCRIPTION:Santé respiratoire France et l’association Respiracteurs vous convient à des journées chaleureuses\, riches en émotions\, en informations sur la manière de préserver sa santé respiratoire et en belles rencontres. Club de golf à la main.\nQue vous soyez concerné(e) par une maladie respiratoire chronique\, proches\, amis\, curieux\, soignants… chacun est le bienvenu ! \n📅 Dimanche 12 octobre 2025 \n⛳ Golf du Sart\, 5 Rue Jean Jaurès\, 59650 Villeneuve-d’Ascq \nEntrée gratuite mais inscription obligatoire // COMPLET
URL:https://sante-respiratoire.com/event/respirezgolf-a-lille-2/
CATEGORIES:Evenement
ATTACH;FMTTYPE=image/png:https://sante-respiratoire.com/wp-content/uploads/2023/07/RespirezGolf-Agenda.png
END:VEVENT
END:VCALENDAR