BEGIN:VCALENDAR
VERSION:2.0
PRODID:-//Association Santé Respiratoire France - ECPv6.15.20//NONSGML v1.0//EN
CALSCALE:GREGORIAN
METHOD:PUBLISH
X-ORIGINAL-URL:https://sante-respiratoire.com
X-WR-CALDESC:Évènements pour Association Santé Respiratoire France
REFRESH-INTERVAL;VALUE=DURATION:PT1H
X-Robots-Tag:noindex
X-PUBLISHED-TTL:PT1H
BEGIN:VTIMEZONE
TZID:Europe/Paris
BEGIN:DAYLIGHT
TZOFFSETFROM:+0100
TZOFFSETTO:+0200
TZNAME:CEST
DTSTART:20240331T010000
END:DAYLIGHT
BEGIN:STANDARD
TZOFFSETFROM:+0200
TZOFFSETTO:+0100
TZNAME:CET
DTSTART:20241027T010000
END:STANDARD
BEGIN:DAYLIGHT
TZOFFSETFROM:+0100
TZOFFSETTO:+0200
TZNAME:CEST
DTSTART:20250330T010000
END:DAYLIGHT
BEGIN:STANDARD
TZOFFSETFROM:+0200
TZOFFSETTO:+0100
TZNAME:CET
DTSTART:20251026T010000
END:STANDARD
BEGIN:DAYLIGHT
TZOFFSETFROM:+0100
TZOFFSETTO:+0200
TZNAME:CEST
DTSTART:20260329T010000
END:DAYLIGHT
BEGIN:STANDARD
TZOFFSETFROM:+0200
TZOFFSETTO:+0100
TZNAME:CET
DTSTART:20261025T010000
END:STANDARD
END:VTIMEZONE
BEGIN:VEVENT
DTSTART;TZID=Europe/Paris:20250924T080000
DTEND;TZID=Europe/Paris:20250926T170000
DTSTAMP:20260425T053913
CREATED:20250911T123108Z
LAST-MODIFIED:20250911T124014Z
UID:10000174-1758700800-1758906000@sante-respiratoire.com
SUMMARY:Le Bus du Cœur des Femmes à Bruay-la-Buissière
DESCRIPTION:L’association Santé respiratoire France a le plaisir de s’associer au Bus Cœur des Femmes lors de son étape\, pendant 3 jours\, à Bruay-la-Buissière les 24\, 25\, 26 septembre \nle Bus accueille les femmes en situation de vulnérabilité\, pour un dépistage cardio-vasculaire et gynécologique. Parce que la santé respiratoire des femmes est aussi essentielle\, mais souvent sous-estimée\, l’association sera heureuse de vous accueillir sur son stand. \nA Bruay-la-Buissière \nPlace de l’Hôtel de Ville \nLes 24\, 25\, 26 septembre \nGratuit\, sur inscription \nVenez nous rencontrer ! \n \n 
URL:https://sante-respiratoire.com/event/le-bus-du-coeur-des-femmes-a-bruay-la-buissiere/
CATEGORIES:Evenement
ATTACH;FMTTYPE=image/png:https://sante-respiratoire.com/wp-content/uploads/2025/09/BusCoeurdesFemmes-Sante-respiratoire-France_2025.png
END:VEVENT
BEGIN:VEVENT
DTSTART;TZID=Europe/Paris:20250924T180000
DTEND;TZID=Europe/Paris:20250924T193000
DTSTAMP:20260425T053913
CREATED:20250908T195855Z
LAST-MODIFIED:20250908T201213Z
UID:10000172-1758736800-1758742200@sante-respiratoire.com
SUMMARY:[Conférence] BPCO : une maladie respiratoire méconnue
DESCRIPTION:Sud Ouest vous invite à une conférence pour sensibiliser sur la maladie respiratoire bronchopneumopathie chronique obstructive (BPCO).\n\n\nConférence animée par Claudine Matt\, journaliste\, avec l’intervention de :\n• Pr Maéva Zysman\, médecin pneumologue au service de pneumologie du CHU de Bordeaux\, référente de la Fondation du Souffle\n• Marina Gueçamburu\, interne en pneumologie G4 Nord au CHU Bordeaux\n• Christine Blanc\, patiente atteinte de BPCO et référente locale de l’association Santé Respiratoire France\n• Un représentant sport santé\n\n\nINFOS PRATIQUES\nA partir de 18h : accueil\nDe 18h30 à 19h30\nLa Grande Poste\, 7 rue du Palais Gallien\, Bordeaux\n\nINSCRIPTION\n\nAvec le soutien institutionnel de Sanofi | Regeneron et la participation de l’association Santé Respiratoire France.\n\nÉVÉNEMENT GRATUIT – OUVERT À TOUTES ET TOUS.
URL:https://sante-respiratoire.com/event/conference-bpco-une-maladie-respiratoire-meconnue/
CATEGORIES:Evenement
ATTACH;FMTTYPE=image/png:https://sante-respiratoire.com/wp-content/uploads/2025/09/conference-sud-ouest-maladie-respiratoire-bpco-Copie.png
END:VEVENT
END:VCALENDAR