BEGIN:VCALENDAR
VERSION:2.0
PRODID:-//Association Santé Respiratoire France - ECPv6.15.20//NONSGML v1.0//EN
CALSCALE:GREGORIAN
METHOD:PUBLISH
X-ORIGINAL-URL:https://sante-respiratoire.com
X-WR-CALDESC:Évènements pour Association Santé Respiratoire France
REFRESH-INTERVAL;VALUE=DURATION:PT1H
X-Robots-Tag:noindex
X-PUBLISHED-TTL:PT1H
BEGIN:VTIMEZONE
TZID:Europe/Paris
BEGIN:DAYLIGHT
TZOFFSETFROM:+0100
TZOFFSETTO:+0200
TZNAME:CEST
DTSTART:20240331T010000
END:DAYLIGHT
BEGIN:STANDARD
TZOFFSETFROM:+0200
TZOFFSETTO:+0100
TZNAME:CET
DTSTART:20241027T010000
END:STANDARD
BEGIN:DAYLIGHT
TZOFFSETFROM:+0100
TZOFFSETTO:+0200
TZNAME:CEST
DTSTART:20250330T010000
END:DAYLIGHT
BEGIN:STANDARD
TZOFFSETFROM:+0200
TZOFFSETTO:+0100
TZNAME:CET
DTSTART:20251026T010000
END:STANDARD
BEGIN:DAYLIGHT
TZOFFSETFROM:+0100
TZOFFSETTO:+0200
TZNAME:CEST
DTSTART:20260329T010000
END:DAYLIGHT
BEGIN:STANDARD
TZOFFSETFROM:+0200
TZOFFSETTO:+0100
TZNAME:CET
DTSTART:20261025T010000
END:STANDARD
END:VTIMEZONE
BEGIN:VEVENT
DTSTART;TZID=Europe/Paris:20250920T100000
DTEND;TZID=Europe/Paris:20250920T170000
DTSTAMP:20260425T053816
CREATED:20250730T101036Z
LAST-MODIFIED:20250917T133224Z
UID:10000169-1758362400-1758387600@sante-respiratoire.com
SUMMARY:Le Village du Souffle\, le 20 septembre à Toulon !
DESCRIPTION:L’association est heureuse de vous convier\, samedi 20 septembre au Village du Souffle à Toulon. Un évènement inédit pour sensibiliser aux maladies respiratoires et à comment prendre soin de sa santé respiratoire. \nCette 3ᵉ édition est placée sous le signe de la famille. \nQue vous soyez concerné(e) par une maladie respiratoire\, proche aidant\, soignant\, curieux d’en savoir plus sur le souffle et comment agir au quotidien pour le protéger\, chacun est le bienvenue ! \nSur place : \n\nDe nombreux stands et animations\, pour petits en grands\,\nDes mesures du souffle\,\nDes experts pour répondre à vos questions (sommeil\, qualité de l’air\, tabac\, activité physique\, maladies respiratoires\, etc.)\,\nDes associations\,\nEtc.\n\nLe tout dans une ambiance chaleureuse et conviviale ! \nAdresse : plage du Mourillon\, à Toulon \nHoraires : de 10h à 17h \nAccès gratuit \n \n  \nNous remercions la Ville de Toulon\, l’ensemble des bénévoles présents sur place ainsi que les partenaires qui soutiennent localement cette initiative : Accès Médical\, AirO2 santé\, Astra Zeneca\, Arbam\, Chiesi\, CPTS Toulon Littoral\, GSK\, Menarini\, Vivisol \n 
URL:https://sante-respiratoire.com/event/le-village-du-souffle-le-20-septembre-a-toulon/
CATEGORIES:Evenement
ATTACH;FMTTYPE=image/png:https://sante-respiratoire.com/wp-content/uploads/2025/07/VillageduSouffle.png
END:VEVENT
END:VCALENDAR