BEGIN:VCALENDAR
VERSION:2.0
PRODID:-//Association Santé Respiratoire France - ECPv6.15.20//NONSGML v1.0//EN
CALSCALE:GREGORIAN
METHOD:PUBLISH
X-ORIGINAL-URL:https://sante-respiratoire.com
X-WR-CALDESC:Évènements pour Association Santé Respiratoire France
REFRESH-INTERVAL;VALUE=DURATION:PT1H
X-Robots-Tag:noindex
X-PUBLISHED-TTL:PT1H
BEGIN:VTIMEZONE
TZID:Europe/Paris
BEGIN:DAYLIGHT
TZOFFSETFROM:+0100
TZOFFSETTO:+0200
TZNAME:CEST
DTSTART:20240331T010000
END:DAYLIGHT
BEGIN:STANDARD
TZOFFSETFROM:+0200
TZOFFSETTO:+0100
TZNAME:CET
DTSTART:20241027T010000
END:STANDARD
BEGIN:DAYLIGHT
TZOFFSETFROM:+0100
TZOFFSETTO:+0200
TZNAME:CEST
DTSTART:20250330T010000
END:DAYLIGHT
BEGIN:STANDARD
TZOFFSETFROM:+0200
TZOFFSETTO:+0100
TZNAME:CET
DTSTART:20251026T010000
END:STANDARD
BEGIN:DAYLIGHT
TZOFFSETFROM:+0100
TZOFFSETTO:+0200
TZNAME:CEST
DTSTART:20260329T010000
END:DAYLIGHT
BEGIN:STANDARD
TZOFFSETFROM:+0200
TZOFFSETTO:+0100
TZNAME:CET
DTSTART:20261025T010000
END:STANDARD
END:VTIMEZONE
BEGIN:VEVENT
DTSTART;TZID=Europe/Paris:20250409T100000
DTEND;TZID=Europe/Paris:20250409T170000
DTSTAMP:20260425T131204
CREATED:20250407T125317Z
LAST-MODIFIED:20250407T125455Z
UID:10000154-1744192800-1744218000@sante-respiratoire.com
SUMMARY:RESPIKAWA à TOULON (83)
DESCRIPTION:Vous vivez à Toulon ou dans les environs ? \nVous êtes concerné(e) par une maladie respiratoire ou proche aidant ? Vous souhaitez partager un moment convivial avec d’autres personnes autour d’un café ?  \nL’association est heureuse de vous convier à un Respi’Kawa\, un moment chaleureux pour les personnes vivant avec une maladie respiratoire et leurs aidants. \n📅 Mercredi 9 avril 2025 à 10H \n👉 Café Culture\, 24 rue Paul Lendrin\, 83000 Toulon \nParlez-en autour de vous ! \nS’INSCRIRE
URL:https://sante-respiratoire.com/event/respikawa-a-toulon-83/
CATEGORIES:Evenement
ATTACH;FMTTYPE=image/jpeg:https://sante-respiratoire.com/wp-content/uploads/2024/04/04_SRF_RespiKawa-site-banderolle-Copie.jpg
END:VEVENT
END:VCALENDAR