BEGIN:VCALENDAR
VERSION:2.0
PRODID:-//Association Santé Respiratoire France - ECPv6.15.20//NONSGML v1.0//EN
CALSCALE:GREGORIAN
METHOD:PUBLISH
X-WR-CALNAME:Association Santé Respiratoire France
X-ORIGINAL-URL:https://sante-respiratoire.com
X-WR-CALDESC:Évènements pour Association Santé Respiratoire France
REFRESH-INTERVAL;VALUE=DURATION:PT1H
X-Robots-Tag:noindex
X-PUBLISHED-TTL:PT1H
BEGIN:VTIMEZONE
TZID:Europe/Paris
BEGIN:DAYLIGHT
TZOFFSETFROM:+0100
TZOFFSETTO:+0200
TZNAME:CEST
DTSTART:20240331T010000
END:DAYLIGHT
BEGIN:STANDARD
TZOFFSETFROM:+0200
TZOFFSETTO:+0100
TZNAME:CET
DTSTART:20241027T010000
END:STANDARD
BEGIN:DAYLIGHT
TZOFFSETFROM:+0100
TZOFFSETTO:+0200
TZNAME:CEST
DTSTART:20250330T010000
END:DAYLIGHT
BEGIN:STANDARD
TZOFFSETFROM:+0200
TZOFFSETTO:+0100
TZNAME:CET
DTSTART:20251026T010000
END:STANDARD
BEGIN:DAYLIGHT
TZOFFSETFROM:+0100
TZOFFSETTO:+0200
TZNAME:CEST
DTSTART:20260329T010000
END:DAYLIGHT
BEGIN:STANDARD
TZOFFSETFROM:+0200
TZOFFSETTO:+0100
TZNAME:CET
DTSTART:20261025T010000
END:STANDARD
END:VTIMEZONE
BEGIN:VEVENT
DTSTART;TZID=Europe/Paris:20250320T090000
DTEND;TZID=Europe/Paris:20250320T120000
DTSTAMP:20260425T143050
CREATED:20241218T145319Z
LAST-MODIFIED:20250110T125955Z
UID:10000148-1742461200-1742472000@sante-respiratoire.com
SUMMARY:Les assises du numérique en santé respiratoire
DESCRIPTION:L’association Santé respiratoire France vous donne rendez-vous le 20 mars prochain\, pour une matinée unique dédiée à l’apport du numérique en santé respiratoire et aux leviers de son développement. \n📅 Jeudi 20 mars 2025\n🕒 De 9h à 13h\n📍 PariSanté Campus \n \nLe programme et le formulaire d’inscriptions seront bientôt en ligne ! \nPAGE EVENEMENT
URL:https://sante-respiratoire.com/event/les-assises-du-numerique-en-sante-respiratoire/
LOCATION:Paris Santé Campus\, 2 - 10 Rue d'Oradour-sur-Glane\, Paris\, France\, 75015
CATEGORIES:Evenement
ATTACH;FMTTYPE=image/jpeg:https://sante-respiratoire.com/wp-content/uploads/2024/12/OK_SRF_Assisesnumeriques-16122024--scaled.jpg
END:VEVENT
END:VCALENDAR