BEGIN:VCALENDAR
VERSION:2.0
PRODID:-//Association Santé Respiratoire France - ECPv6.15.20//NONSGML v1.0//EN
CALSCALE:GREGORIAN
METHOD:PUBLISH
X-WR-CALNAME:Association Santé Respiratoire France
X-ORIGINAL-URL:https://sante-respiratoire.com
X-WR-CALDESC:Évènements pour Association Santé Respiratoire France
REFRESH-INTERVAL;VALUE=DURATION:PT1H
X-Robots-Tag:noindex
X-PUBLISHED-TTL:PT1H
BEGIN:VTIMEZONE
TZID:Europe/Paris
BEGIN:DAYLIGHT
TZOFFSETFROM:+0100
TZOFFSETTO:+0200
TZNAME:CEST
DTSTART:20230326T010000
END:DAYLIGHT
BEGIN:STANDARD
TZOFFSETFROM:+0200
TZOFFSETTO:+0100
TZNAME:CET
DTSTART:20231029T010000
END:STANDARD
BEGIN:DAYLIGHT
TZOFFSETFROM:+0100
TZOFFSETTO:+0200
TZNAME:CEST
DTSTART:20240331T010000
END:DAYLIGHT
BEGIN:STANDARD
TZOFFSETFROM:+0200
TZOFFSETTO:+0100
TZNAME:CET
DTSTART:20241027T010000
END:STANDARD
BEGIN:DAYLIGHT
TZOFFSETFROM:+0100
TZOFFSETTO:+0200
TZNAME:CEST
DTSTART:20250330T010000
END:DAYLIGHT
BEGIN:STANDARD
TZOFFSETFROM:+0200
TZOFFSETTO:+0100
TZNAME:CET
DTSTART:20251026T010000
END:STANDARD
END:VTIMEZONE
BEGIN:VEVENT
DTSTART;TZID=Europe/Paris:20240411T180000
DTEND;TZID=Europe/Paris:20240411T193000
DTSTAMP:20260426T060124
CREATED:20240402T121729Z
LAST-MODIFIED:20240402T140315Z
UID:10000068-1712858400-1712863800@sante-respiratoire.com
SUMMARY:[ Web-conférence ] Infections respiratoires à VRS : les prévenir à tous les âges de la vie
DESCRIPTION:On connaît la grippe\, mais moins le virus qui en est responsable : le virus influenza\, A et B. On connaît également la bronchiolite du nourrisson\, mais très rarement l’agent qui en est la cause : le virus respiratoire syncytial\, communément appelé VRS. Or\, ce dernier peut s’avérer dangereux pour les nourrissons\, chez lesquels il est susceptible de provoquer des détresses respiratoires aiguës\, du fait d’une importante inflammation de la paroi des bronches et des alvéoles pulmonaires\nDe plus\, contrairement aux idées reçues\, la problématique des infections par le VRS concerne aussi les seniors et les personnes immunodéprimées. Elle représente chez ces personnes l’une des principales causes d’infections respiratoires avec des conséquences souvent graves (difficultés respiratoires\, pneumonie\, etc.). L’infection par le VRS est en outre une maladie à prendre au sérieux chez les personnes adultes à haut risque\, comme ceux ayant des maladies associées\, dont les maladies respiratoires chroniques. Chez ces derniers\, l’infection est susceptible d’aggraver un asthme ou encore une BPCO.\n  \n\nQuelle réalité se cache derrière ces trois lettres infections à « VRS » ?\nQuel est l’impact d’une infection à VRS chez les nourrissons\, les seniors et les personnes immunodéprimées ?\nEn 2024\, quelles sont les solutions pour prévenir ces infections ?\nQuels sont les enjeux liés à la prochaine vague épidémique\, attendue à l’automne 2024 ?\n\n  \nSanté respiratoire France vous convie à suivre une table ronde : \n📆 Jeudi 11 avril 2024\n⏰ A 18 heures\n💻 En direct sur la chaîne YouTube de l’association \n  \nSoignants\, experts\, représentants d’associations et patients se partageront la parole : \n• Pr Claire ANDREJAK\, pneumologue (CHU d’Amiens\, Picardie) et responsable du Groupe de recherche et d’enseignement en pneumo-infectiologie (GREPI) de la Société de pneumologie de langue française (SPLF) ;\n• Dr Fabienne CAHN-SELLEM\, pédiatre libérale dans les Hauts-de-Seine\, membre du bureau de l’Association Française de Pédiatrie Ambulatoire (AFPA) et Directrice Générale d’AFPA R&D ;\n• Mme Régine DECAMPS\, qui apportera son témoignage en tant que patiente\n• Dr Frédéric LE GUILLOU\, pneumologue et président de l’association Santé respiratoire France ;\n• M. Sébastien MICHEL\, président de l’APSEF (Association pour la prévention des risques de la santé et le bien-être des enfants et futurs parents) ;\n• Dr Sydney SEBBAN\, pédiatre et coordinateur médical du réseau bronchiolite Ile-de- France ;\n• Pr Catherine WEIL-OLIVIER\, professeur honoraire de pédiatrie (Université Paris 7) et membre fondateur d’InfoVac France. \nCette table-ronde sera animée par Bruno ROUGIER\, journaliste santé. \n  \nCLIQUEZ ICI POUR ACCEDER A LA TABLE-RONDE \n  \n✅ Évènement gratuit\, sans inscription \n👉 Recevoir le jour J un rappel du lien de connexion \n  \nCette table ronde est organisée avec le soutien institutionnel des laboratoires Sanofi et GSK\, partenaires et signataires de la Charte éthique de Santé respiratoire France. Le format et le contenu de cette table ronde ont été préparés en toute indépendance par Santé respiratoire France.
URL:https://sante-respiratoire.com/event/web-conference-infections-respiratoires-a-vrs-les-prevenir-a-tous-les-ages-de-la-vie/
CATEGORIES:Evenement
ATTACH;FMTTYPE=image/jpeg:https://sante-respiratoire.com/wp-content/uploads/2023/01/happy-grandparents-playing-with-their-grandson-at-home-scaled.jpg
END:VEVENT
END:VCALENDAR