BEGIN:VCALENDAR
VERSION:2.0
PRODID:-//Association Santé Respiratoire France - ECPv6.15.20//NONSGML v1.0//EN
CALSCALE:GREGORIAN
METHOD:PUBLISH
X-ORIGINAL-URL:https://sante-respiratoire.com
X-WR-CALDESC:Évènements pour Association Santé Respiratoire France
REFRESH-INTERVAL;VALUE=DURATION:PT1H
X-Robots-Tag:noindex
X-PUBLISHED-TTL:PT1H
BEGIN:VTIMEZONE
TZID:Europe/Paris
BEGIN:DAYLIGHT
TZOFFSETFROM:+0100
TZOFFSETTO:+0200
TZNAME:CEST
DTSTART:20230326T010000
END:DAYLIGHT
BEGIN:STANDARD
TZOFFSETFROM:+0200
TZOFFSETTO:+0100
TZNAME:CET
DTSTART:20231029T010000
END:STANDARD
BEGIN:DAYLIGHT
TZOFFSETFROM:+0100
TZOFFSETTO:+0200
TZNAME:CEST
DTSTART:20240331T010000
END:DAYLIGHT
BEGIN:STANDARD
TZOFFSETFROM:+0200
TZOFFSETTO:+0100
TZNAME:CET
DTSTART:20241027T010000
END:STANDARD
BEGIN:DAYLIGHT
TZOFFSETFROM:+0100
TZOFFSETTO:+0200
TZNAME:CEST
DTSTART:20250330T010000
END:DAYLIGHT
BEGIN:STANDARD
TZOFFSETFROM:+0200
TZOFFSETTO:+0100
TZNAME:CET
DTSTART:20251026T010000
END:STANDARD
END:VTIMEZONE
BEGIN:VEVENT
DTSTART;TZID=Europe/Paris:20241215T140000
DTEND;TZID=Europe/Paris:20241215T170000
DTSTAMP:20260425T172126
CREATED:20241129T102556Z
LAST-MODIFIED:20241129T102938Z
UID:10000145-1734271200-1734282000@sante-respiratoire.com
SUMMARY:Concert de Noël en faveur du don d'organes
DESCRIPTION:La Chapelle de l’Hôpital Renée Sabran à Giens accueillera – Dimanche 15 décembre-  un concert caritatif exceptionnel organisé par Danièle Porre\, alias Dany Piano\, professeure de piano à Toulon. \nCe concert sera dédié à la sensibilisation au don d’organes\, une cause qui touche personnellement Dany Piano\, ayant bénéficié d’une greffe bi-pulmonaire il y a six ans et demi\, greffe qui lui a sauvé la vie. L’événement vise à mobiliser le public autour de la cause du don d’organes. Les dons récoltés lors du concert seront entièrement utilisés pour l’amélioration du bien-être des patients hospitalisés. \nLe concert\, sur le thème des musiques de Noël\, verra la participation exceptionnelle de :\n• Antoine de Grolée : pianiste international\,  spécialiste des instruments historiques\n• Béatrice Pley : flûtiste internationale (flûtes Piccolo\, en ut\, alto ou basse selon les œuvres)\n• René Benedetti : violoncelliste\, 1er soliste à l’Opéra de Paris et aux Concerts Colonne \nUne première partie sera assurée par les élèves de Dany Piano\, sensibilisés à la cause du don d’organes\, qui joueront pour les malades avec tout leur cœur. Des patients et soignants du service Cadgène (CRCM) se joindront également à l’événement\, jouant des boomwhackers (tubes en plastique dont chaque couleur correspond à une note musicale)\, apportant une touche ludique et participative. \nL’événement est soutenu par l’association Santé respiratoire France ainsi que tous les pneumologues de la région PACA\, et  le centre de greffe et des maladies rares de l’hôpital Nord de Marseille. \nInformations pratiques :\nDate : Dimanche 15 décembre 2024\nHeure : 14h00\nLieu : Chapelle de l’Hôpital Renée Sabran\, Giens \nINSCRIPTION OBLIGATOIRE \nVenez nombreux pour soutenir cette cause en musique et en solidarité ! \nDany Piano : L’emphysème\, la transplantation pulmonaire\, et toujours le piano… Danièle Porre\, que tout le monde connaît sous le nom de “Dany Piano”\, se prête au jeu du « Si j’étais… » pour ce « portrait chinois » qui met en lumière sa vision de la vie\, ses coups de cœur\, ses combats…
URL:https://sante-respiratoire.com/event/concert-de-noel-en-faveur-du-don-dorganes/
LOCATION:Hôpital Renée Sabran\, Boulevard Edouard Herriot\, Hyères\, 83400
CATEGORIES:Evenement
ATTACH;FMTTYPE=image/png:https://sante-respiratoire.com/wp-content/uploads/2024/11/Capture-decran-2024-11-29-112349.png
END:VEVENT
END:VCALENDAR