BEGIN:VCALENDAR
VERSION:2.0
PRODID:-//Association Santé Respiratoire France - ECPv6.15.20//NONSGML v1.0//EN
CALSCALE:GREGORIAN
METHOD:PUBLISH
X-ORIGINAL-URL:https://sante-respiratoire.com
X-WR-CALDESC:Évènements pour Association Santé Respiratoire France
REFRESH-INTERVAL;VALUE=DURATION:PT1H
X-Robots-Tag:noindex
X-PUBLISHED-TTL:PT1H
BEGIN:VTIMEZONE
TZID:Europe/Paris
BEGIN:DAYLIGHT
TZOFFSETFROM:+0100
TZOFFSETTO:+0200
TZNAME:CEST
DTSTART:20230326T010000
END:DAYLIGHT
BEGIN:STANDARD
TZOFFSETFROM:+0200
TZOFFSETTO:+0100
TZNAME:CET
DTSTART:20231029T010000
END:STANDARD
BEGIN:DAYLIGHT
TZOFFSETFROM:+0100
TZOFFSETTO:+0200
TZNAME:CEST
DTSTART:20240331T010000
END:DAYLIGHT
BEGIN:STANDARD
TZOFFSETFROM:+0200
TZOFFSETTO:+0100
TZNAME:CET
DTSTART:20241027T010000
END:STANDARD
BEGIN:DAYLIGHT
TZOFFSETFROM:+0100
TZOFFSETTO:+0200
TZNAME:CEST
DTSTART:20250330T010000
END:DAYLIGHT
BEGIN:STANDARD
TZOFFSETFROM:+0200
TZOFFSETTO:+0100
TZNAME:CET
DTSTART:20251026T010000
END:STANDARD
END:VTIMEZONE
BEGIN:VEVENT
DTSTART;TZID=Europe/Paris:20240923T150000
DTEND;TZID=Europe/Paris:20240923T170000
DTSTAMP:20260425T211913
CREATED:20240703T194634Z
LAST-MODIFIED:20240703T194710Z
UID:10000138-1727103600-1727110800@sante-respiratoire.com
SUMMARY:Respi'Kawa Bordeaux (33)
DESCRIPTION:Vous vivez à Bordeaux ou dans les environs ? \nVous êtes concerné(e) par une maladie respiratoire ou proche aidant ? Vous souhaitez partager un moment convivial avec d’autres personnes autour d’un café ?  \nL’association est heureuse de vous convier à un Respi’Kawa\, un moment chaleureux pour les personnes vivant avec une maladie respiratoire et leurs aidants. \n📅 Lundi 23 septembre 2024\, de 15H à 17H  \n👉 Bas Cenon\, arrêt de tram Jean-Jaurès (adresse confirmée lors de l’inscription) \nParlez-en autour de vous ! \nS’INSCRIRE
URL:https://sante-respiratoire.com/event/respikawa-bordeaux-33/
CATEGORIES:Evenement
ATTACH;FMTTYPE=image/jpeg:https://sante-respiratoire.com/wp-content/uploads/2024/04/04_SRF_RespiKawa-site-banderolle-Copie.jpg
END:VEVENT
BEGIN:VEVENT
DTSTART;TZID=Europe/Paris:20240930T180000
DTEND;TZID=Europe/Paris:20240930T190000
DTSTAMP:20260425T211913
CREATED:20240628T170016Z
LAST-MODIFIED:20241003T105604Z
UID:10000137-1727719200-1727722800@sante-respiratoire.com
SUMMARY:[ Webinaire ] Tout savoir sur la réadaptation respiratoire
DESCRIPTION:Dans la prise en soin des maladies respiratoires chroniques\, la réadaptation respiratoire tient une place centrale\, tel un moment privilégié pour comprendre et apprendre à gérer au quotidien les conséquences de la pathologie. Ses bénéfices sur les symptômes mais aussi la qualité de vie\, sans oublier celle des aidants\, ont été largement démontrés.\nDans ce nouveau rendez-vous « En Direct »\, nous vous proposons d’approfondir la notion de réadaptation respiratoire : de quoi s’agit-il exactement ? A qui s’adresse-t-elle ? De quels types d’accompagnements puis-je bénéficier ? Quels progrès puis-je en attendre ? Comment y accéder ? Est-ce pris en charge par la Sécurité sociale ? \n📅 Rendez-vous lundi 30 septembre 2024 à 18H \n💻 En direct sur la chaîne YouTube de l’association \n  \nDes experts prendront la parole pour répondre à vos questions :  \n\nDr Fabrice CARON\, pneumologue au CHU de Poitiers\, membre du groupe Alvéole de la Société de pneumologie de langue française (SPLF) ;\nBaptiste CHEHERE\, enseignant en activité physique adaptée (APA)\, membre du groupe Alvéole de la SPLF ;\nCaroline COTTINI\, patiente experte;\nSarah GEPHINE\, care manager au sein de FormAction Santé\, membre du groupe Alvéole de la SPLF;\nDr Jean-Marie GROSBOIS\, pneumologue\, expert en réadaptation respiratoire à domicile (FormAction Santé)\, membre du groupe Alvéole de la SPLF.\n\n  \nWeb conférence gratuite\, sans inscription \nACCEDER AU WEBINAIRE  \n  \nWebconférence organisée avec le soutien institutionnel des laboratoires Menarini
URL:https://sante-respiratoire.com/event/webinaire-tout-savoir-sur-la-readaptation-respiratoire/
CATEGORIES:Evenement
ATTACH;FMTTYPE=image/jpeg:https://sante-respiratoire.com/wp-content/uploads/2024/06/SRF_Webinaire_RR_30Sept2024_sanssoutien.jpg
END:VEVENT
END:VCALENDAR