BEGIN:VCALENDAR
VERSION:2.0
PRODID:-//Association Santé Respiratoire France - ECPv6.15.20//NONSGML v1.0//EN
CALSCALE:GREGORIAN
METHOD:PUBLISH
X-WR-CALNAME:Association Santé Respiratoire France
X-ORIGINAL-URL:https://sante-respiratoire.com
X-WR-CALDESC:Évènements pour Association Santé Respiratoire France
REFRESH-INTERVAL;VALUE=DURATION:PT1H
X-Robots-Tag:noindex
X-PUBLISHED-TTL:PT1H
BEGIN:VTIMEZONE
TZID:Europe/Paris
BEGIN:DAYLIGHT
TZOFFSETFROM:+0100
TZOFFSETTO:+0200
TZNAME:CEST
DTSTART:20230326T010000
END:DAYLIGHT
BEGIN:STANDARD
TZOFFSETFROM:+0200
TZOFFSETTO:+0100
TZNAME:CET
DTSTART:20231029T010000
END:STANDARD
BEGIN:DAYLIGHT
TZOFFSETFROM:+0100
TZOFFSETTO:+0200
TZNAME:CEST
DTSTART:20240331T010000
END:DAYLIGHT
BEGIN:STANDARD
TZOFFSETFROM:+0200
TZOFFSETTO:+0100
TZNAME:CET
DTSTART:20241027T010000
END:STANDARD
BEGIN:DAYLIGHT
TZOFFSETFROM:+0100
TZOFFSETTO:+0200
TZNAME:CEST
DTSTART:20250330T010000
END:DAYLIGHT
BEGIN:STANDARD
TZOFFSETFROM:+0200
TZOFFSETTO:+0100
TZNAME:CET
DTSTART:20251026T010000
END:STANDARD
END:VTIMEZONE
BEGIN:VEVENT
DTSTART;TZID=Europe/Paris:20241014T180000
DTEND;TZID=Europe/Paris:20241014T190000
DTSTAMP:20260423T130258
CREATED:20240709T202714Z
LAST-MODIFIED:20240709T202848Z
UID:10000141-1728928800-1728932400@sante-respiratoire.com
SUMMARY:[ WEB-CONFERENCE ] SOMNOLENCE : QUELS SONT LES RISQUES ? COMMENT LES PRÉVENIR ?
DESCRIPTION:Yeux qui piquent\, paupières lourdes\, bâillements incontrôlables… Ces signes de lutte contre le sommeil nous sont bien connus. Or\, bien que la somnolence soit fréquente\, les risques qu’elle entraîne sont souvent ignorés !\nJusqu’à 20 % des Français seraient somnolents en journée. Un tiers des accidents mortels sur la route sont dus à la somnolence. Ce symptôme touche particulièrement les personnes souffrant du syndrome des apnées du sommeil et peut persister malgré un traitement par pression positive continue bien conduit. \n◾ « Somnolence » ou encore « somnolence résiduelle »\, de quoi parle-t-on exactement ? \n◾Qui est concerné ? Quand est-il nécessaire de consulter ? \n◾ Quels sont les risques liés à la somnolence ? \n◾Quelles solutions pour la prévenir et la « traiter » ? \n◾ Conduite automobile et somnolence\, que dit la réglementation ? \nA l’occasion d’un nouveau Direct\, Santé respiratoire France vous propose de mieux comprendre cette problématique fréquente et pourtant sous-estimée\, banalisée\, en dépit d’un fort retentissement sur la qualité de vie et sur le risque d’accident. \n📅 Lundi 14 octobre 2024 \n⏰ De 18h à 18h45 \n👉 En direct sur la chaîne YouTube de l’association (rejoindre le Direct) \nIntervenants : \n\nDr Luc BURSKI\, médecin généraliste\, spécialisé dans le sommeil\nDr Kelly GUICHARD\, psychiatre et médecin du sommeil\nDr Marc SAPENE\, pneumologue et président d’Alliance Apnées du Sommeil\nTémoignage patient\n\nModération : Frédéric le Guillou\, pneumologue et président de Santé respiratoire France \n  \nACCEDER AU WEBINAIRE
URL:https://sante-respiratoire.com/event/web-conference-somnolence-quels-sont-les-risques-comment-les-prevenir/
CATEGORIES:Evenement
ATTACH;FMTTYPE=image/jpeg:https://sante-respiratoire.com/wp-content/uploads/2024/07/Webinaire_Somnolence_14102024.jpg
END:VEVENT
END:VCALENDAR